BEGIN:VCALENDAR
VERSION:2.0
PRODID:-//pretix//pretix//
BEGIN:VTIMEZONE
TZID:Europe/Berlin
BEGIN:STANDARD
DTSTART:20001029T040000
RRULE:FREQ=YEARLY;BYDAY=-1SU;BYMONTH=10
TZNAME:CET
TZOFFSETFROM:+0200
TZOFFSETTO:+0100
END:STANDARD
BEGIN:DAYLIGHT
DTSTART:20000326T030000
RRULE:FREQ=YEARLY;BYDAY=-1SU;BYMONTH=3
TZNAME:CEST
TZOFFSETFROM:+0100
TZOFFSETTO:+0200
END:DAYLIGHT
END:VTIMEZONE
BEGIN:VEVENT
UID:pretix-AZL-7dltd-14503@shop-azl.luhmuehlen.de
DTSTART;TZID=Europe/Berlin:20260301T060000
DTEND;TZID=Europe/Berlin:20261031T220000
DESCRIPTION:Tickets: https://shop-azl.luhmuehlen.de/7dltd/14503/\nVeranstal
 ter: Ausbildungszentrum Luhmühlen
DTSTAMP:20260420T110042Z
LOCATION:AZL Luhmühlen\, Bruchweg 3-5\, 21376 Salzhausen\, Geländeplatz I
 :\, https://maps.app.goo.gl/s2GT3Ws7D7xUy4s48\, Geländeplatz II:\, https:
 //maps.app.goo.gl/HRnukVRzNCzjQeaDA
SUMMARY:Saisonticket Geländeplätze
END:VEVENT
END:VCALENDAR
